BEGIN:VCALENDAR
VERSION:2.0
PRODID:-//Chambers Creek - ECPv6.14.0//NONSGML v1.0//EN
CALSCALE:GREGORIAN
METHOD:PUBLISH
X-ORIGINAL-URL:https://chamberscreek.org
X-WR-CALDESC:Events for Chambers Creek
REFRESH-INTERVAL;VALUE=DURATION:PT1H
X-Robots-Tag:noindex
X-PUBLISHED-TTL:PT1H
BEGIN:VTIMEZONE
TZID:America/Chicago
BEGIN:DAYLIGHT
TZOFFSETFROM:-0600
TZOFFSETTO:-0500
TZNAME:CDT
DTSTART:20240310T080000
END:DAYLIGHT
BEGIN:STANDARD
TZOFFSETFROM:-0500
TZOFFSETTO:-0600
TZNAME:CST
DTSTART:20241103T070000
END:STANDARD
END:VTIMEZONE
BEGIN:VEVENT
DTSTART;TZID=America/Chicago:20240929T094500
DTEND;TZID=America/Chicago:20240929T103000
DTSTAMP:20260425T110849
CREATED:20240821T222910Z
LAST-MODIFIED:20240821T223411Z
UID:583-1727603100-1727605800@chamberscreek.org
SUMMARY:1'st Hour Ministries
DESCRIPTION:Sunday School classes for children and adults
URL:https://chamberscreek.org/calendar/1st-hour-ministries-6/
LOCATION:TX
CATEGORIES:1'st Hour Ministries
END:VEVENT
BEGIN:VEVENT
DTSTART;TZID=America/Chicago:20240929T104500
DTEND;TZID=America/Chicago:20240929T120000
DTSTAMP:20260425T110849
CREATED:20240821T223543Z
LAST-MODIFIED:20240821T223543Z
UID:585-1727606700-1727611200@chamberscreek.org
SUMMARY:Worship Service
DESCRIPTION:
URL:https://chamberscreek.org/calendar/worship-service-6/
LOCATION:TX
CATEGORIES:Worship Service
END:VEVENT
END:VCALENDAR