BEGIN:VCALENDAR
VERSION:2.0
PRODID:-//Chambers Creek - ECPv6.14.0//NONSGML v1.0//EN
CALSCALE:GREGORIAN
METHOD:PUBLISH
X-WR-CALNAME:Chambers Creek
X-ORIGINAL-URL:https://chamberscreek.org
X-WR-CALDESC:Events for Chambers Creek
REFRESH-INTERVAL;VALUE=DURATION:PT1H
X-Robots-Tag:noindex
X-PUBLISHED-TTL:PT1H
BEGIN:VTIMEZONE
TZID:UTC
BEGIN:STANDARD
TZOFFSETFROM:+0000
TZOFFSETTO:+0000
TZNAME:UTC
DTSTART:20240101T000000
END:STANDARD
END:VTIMEZONE
BEGIN:VEVENT
DTSTART;TZID=UTC:20241104T173000
DTEND;TZID=UTC:20241104T180000
DTSTAMP:20260425T010629
CREATED:20241104T180519Z
LAST-MODIFIED:20241104T180605Z
UID:1225-1730741400-1730743200@chamberscreek.org
SUMMARY:City of Grandview Prayer for America
DESCRIPTION:Please join us for the City of Grandview’s prayer gathering for our country. Location: Grandview Administrative Office \n1100 McDuff Ave.\nGrandview\, TX 76050
URL:https://chamberscreek.org/calendar/city-of-grandview-prayer-for-america/
LOCATION:TX
END:VEVENT
BEGIN:VEVENT
DTSTART;TZID=UTC:20241104T190000
DTEND;TZID=UTC:20241104T190000
DTSTAMP:20260425T010629
CREATED:20241101T190155Z
LAST-MODIFIED:20241104T203747Z
UID:1176-1730746800-1730746800@chamberscreek.org
SUMMARY:"Two Brothers" Movie- Pastor Koo from South Korea at Chambers Creek
DESCRIPTION:Pastor Koo and his wife from South Korea will be showing “Two Brothers\,” a 1-hour movie about Hamas’ attack on Israel on October 7\, 2023. The movie will premiere right here at Chambers Creek. The film will be followed by a brief discussion and prayer.
URL:https://chamberscreek.org/calendar/movie-with-pastor-koo-missionary-from-korea/
LOCATION:TX
END:VEVENT
END:VCALENDAR