BEGIN:VCALENDAR
VERSION:2.0
PRODID:-//Chambers Creek - ECPv6.14.0//NONSGML v1.0//EN
CALSCALE:GREGORIAN
METHOD:PUBLISH
X-WR-CALNAME:Chambers Creek
X-ORIGINAL-URL:https://chamberscreek.org
X-WR-CALDESC:Events for Chambers Creek
REFRESH-INTERVAL;VALUE=DURATION:PT1H
X-Robots-Tag:noindex
X-PUBLISHED-TTL:PT1H
BEGIN:VTIMEZONE
TZID:UTC
BEGIN:STANDARD
TZOFFSETFROM:+0000
TZOFFSETTO:+0000
TZNAME:UTC
DTSTART:20240101T000000
END:STANDARD
END:VTIMEZONE
BEGIN:VEVENT
DTSTART;TZID=UTC:20241109T120000
DTEND;TZID=UTC:20241109T150000
DTSTAMP:20260424T172149
CREATED:20241104T155031Z
LAST-MODIFIED:20241104T155443Z
UID:1198-1731153600-1731164400@chamberscreek.org
SUMMARY:Dare 2 Share Live Youth Ministry Event
DESCRIPTION:Dare 2 Share is a live\, high-energy video-based training event for teenagers you can do in your own community. Taking place at Chambers Creek\, the training and activities work together to ignite your teens’ hearts for the lost\, equip them with a clear Gospel message\, and activate them to serve and share.
URL:https://chamberscreek.org/calendar/dare-2-share-live-youth-ministry-event/
LOCATION:Chambers Creek Church\, Grandview\, TX\, United States
END:VEVENT
END:VCALENDAR