BEGIN:VCALENDAR
VERSION:2.0
PRODID:-//Chambers Creek - ECPv6.14.0//NONSGML v1.0//EN
CALSCALE:GREGORIAN
METHOD:PUBLISH
X-ORIGINAL-URL:https://chamberscreek.org
X-WR-CALDESC:Events for Chambers Creek
REFRESH-INTERVAL;VALUE=DURATION:PT1H
X-Robots-Tag:noindex
X-PUBLISHED-TTL:PT1H
BEGIN:VTIMEZONE
TZID:America/Chicago
BEGIN:DAYLIGHT
TZOFFSETFROM:-0600
TZOFFSETTO:-0500
TZNAME:CDT
DTSTART:20240310T080000
END:DAYLIGHT
BEGIN:STANDARD
TZOFFSETFROM:-0500
TZOFFSETTO:-0600
TZNAME:CST
DTSTART:20241103T070000
END:STANDARD
END:VTIMEZONE
BEGIN:VTIMEZONE
TZID:UTC
BEGIN:STANDARD
TZOFFSETFROM:+0000
TZOFFSETTO:+0000
TZNAME:UTC
DTSTART:20240101T000000
END:STANDARD
END:VTIMEZONE
BEGIN:VEVENT
DTSTART;TZID=America/Chicago:20241120T180000
DTEND;TZID=America/Chicago:20241120T183000
DTSTAMP:20260424T000432
CREATED:20240821T233407Z
LAST-MODIFIED:20240821T233407Z
UID:676-1732125600-1732127400@chamberscreek.org
SUMMARY:Fellowship Dinner
DESCRIPTION:Dinner for all
URL:https://chamberscreek.org/calendar/fellowship-dinner-14/
LOCATION:TX
CATEGORIES:Fellowship Dinner
END:VEVENT
BEGIN:VEVENT
DTSTART;TZID=America/Chicago:20241120T183000
DTEND;TZID=America/Chicago:20241120T193000
DTSTAMP:20260424T000432
CREATED:20240821T233448Z
LAST-MODIFIED:20240821T233448Z
UID:679-1732127400-1732131000@chamberscreek.org
SUMMARY:Bible Study
DESCRIPTION:Bible study for kids\, youth\, and adults
URL:https://chamberscreek.org/calendar/bible-study-14/
LOCATION:TX
CATEGORIES:Bible Study
END:VEVENT
BEGIN:VEVENT
DTSTART;TZID=UTC:20241120T183000
DTEND;TZID=UTC:20241120T193000
DTSTAMP:20260424T000432
CREATED:20241104T165611Z
LAST-MODIFIED:20241104T165735Z
UID:1214-1732127400-1732131000@chamberscreek.org
SUMMARY:Church Bonfire
DESCRIPTION:Come join us for the church bonfire with marshmallows and s’mores. Location: Chambers Creek
URL:https://chamberscreek.org/calendar/church-bonfire/
LOCATION:TX
END:VEVENT
END:VCALENDAR