BEGIN:VCALENDAR
VERSION:2.0
PRODID:-//Chambers Creek - ECPv6.14.0//NONSGML v1.0//EN
CALSCALE:GREGORIAN
METHOD:PUBLISH
X-WR-CALNAME:Chambers Creek
X-ORIGINAL-URL:https://chamberscreek.org
X-WR-CALDESC:Events for Chambers Creek
REFRESH-INTERVAL;VALUE=DURATION:PT1H
X-Robots-Tag:noindex
X-PUBLISHED-TTL:PT1H
BEGIN:VTIMEZONE
TZID:UTC
BEGIN:STANDARD
TZOFFSETFROM:+0000
TZOFFSETTO:+0000
TZNAME:UTC
DTSTART:20240101T000000
END:STANDARD
END:VTIMEZONE
BEGIN:VEVENT
DTSTART;TZID=UTC:20241123T083000
DTEND;TZID=UTC:20241123T093000
DTSTAMP:20260423T194442
CREATED:20241104T170042Z
LAST-MODIFIED:20241104T171304Z
UID:1217-1732350600-1732354200@chamberscreek.org
SUMMARY:Men's Discipleship Leader Training with Breakfast
DESCRIPTION:Location: Chambers Creek
URL:https://chamberscreek.org/calendar/mens-discipleship-leader-training/
LOCATION:TX
END:VEVENT
BEGIN:VEVENT
DTSTART;TZID=UTC:20241123T120000
DTEND;TZID=UTC:20241123T160000
DTSTAMP:20260423T194442
CREATED:20241104T162203Z
LAST-MODIFIED:20241104T164423Z
UID:1210-1732363200-1732377600@chamberscreek.org
SUMMARY:Parents' Day Out
DESCRIPTION:A time for parents to get away for a few hours and kids to have fun in the process\, parents are encouraged to bring their kiddos to the church for Parents’ Day Out. The kids will work on a fun filled Scooby-Doo Mystery as well as many other fun activities and games. Location: Chambers Creek
URL:https://chamberscreek.org/calendar/parents-day-out/
LOCATION:TX
END:VEVENT
END:VCALENDAR