BEGIN:VCALENDAR
VERSION:2.0
PRODID:-//Chambers Creek - ECPv6.14.0//NONSGML v1.0//EN
CALSCALE:GREGORIAN
METHOD:PUBLISH
X-WR-CALNAME:Chambers Creek
X-ORIGINAL-URL:https://chamberscreek.org
X-WR-CALDESC:Events for Chambers Creek
REFRESH-INTERVAL;VALUE=DURATION:PT1H
X-Robots-Tag:noindex
X-PUBLISHED-TTL:PT1H
BEGIN:VTIMEZONE
TZID:America/Chicago
BEGIN:DAYLIGHT
TZOFFSETFROM:-0600
TZOFFSETTO:-0500
TZNAME:CDT
DTSTART:20240310T080000
END:DAYLIGHT
BEGIN:STANDARD
TZOFFSETFROM:-0500
TZOFFSETTO:-0600
TZNAME:CST
DTSTART:20241103T070000
END:STANDARD
END:VTIMEZONE
BEGIN:VTIMEZONE
TZID:UTC
BEGIN:STANDARD
TZOFFSETFROM:+0000
TZOFFSETTO:+0000
TZNAME:UTC
DTSTART:20240101T000000
END:STANDARD
END:VTIMEZONE
BEGIN:VEVENT
DTSTART;TZID=America/Chicago:20241124T094500
DTEND;TZID=America/Chicago:20241124T103000
DTSTAMP:20260423T182859
CREATED:20240821T233628Z
LAST-MODIFIED:20240821T233628Z
UID:684-1732441500-1732444200@chamberscreek.org
SUMMARY:1'st Hour Ministries
DESCRIPTION:Sunday School classes for children and adults
URL:https://chamberscreek.org/calendar/1st-hour-ministries-14/
LOCATION:TX
CATEGORIES:1'st Hour Ministries
END:VEVENT
BEGIN:VEVENT
DTSTART;TZID=America/Chicago:20241124T104500
DTEND;TZID=America/Chicago:20241124T120000
DTSTAMP:20260423T182859
CREATED:20240821T233714Z
LAST-MODIFIED:20240821T233714Z
UID:687-1732445100-1732449600@chamberscreek.org
SUMMARY:Worship Service
DESCRIPTION:
URL:https://chamberscreek.org/calendar/worship-service-14/
LOCATION:TX
CATEGORIES:Worship Service
END:VEVENT
BEGIN:VEVENT
DTSTART;TZID=UTC:20241124T180000
DTEND;TZID=UTC:20241124T190000
DTSTAMP:20260423T182859
CREATED:20241104T174043Z
LAST-MODIFIED:20241104T175847Z
UID:1222-1732471200-1732474800@chamberscreek.org
SUMMARY:Community Thanksgiving Service at First Methodist- Grandview
DESCRIPTION:Community-wide Thanksgiving Service at First Methodist- Grandview. Please bring a side or dessert
URL:https://chamberscreek.org/calendar/community-thanksgiving-service-at-first-methodist-grandview/
LOCATION:TX
END:VEVENT
END:VCALENDAR