BEGIN:VCALENDAR
VERSION:2.0
PRODID:-//Chambers Creek - ECPv6.14.0//NONSGML v1.0//EN
CALSCALE:GREGORIAN
METHOD:PUBLISH
X-WR-CALNAME:Chambers Creek
X-ORIGINAL-URL:https://chamberscreek.org
X-WR-CALDESC:Events for Chambers Creek
REFRESH-INTERVAL;VALUE=DURATION:PT1H
X-Robots-Tag:noindex
X-PUBLISHED-TTL:PT1H
BEGIN:VTIMEZONE
TZID:UTC
BEGIN:STANDARD
TZOFFSETFROM:+0000
TZOFFSETTO:+0000
TZNAME:UTC
DTSTART:20240101T000000
END:STANDARD
END:VTIMEZONE
BEGIN:VEVENT
DTSTART;TZID=UTC:20241127T180000
DTEND;TZID=UTC:20241127T200000
DTSTAMP:20260423T141527
CREATED:20241101T192235Z
LAST-MODIFIED:20241104T153532Z
UID:1180-1732730400-1732737600@chamberscreek.org
SUMMARY:All Church Activities CANCELED
DESCRIPTION:All Bible studies\, meals\, and church activities are canceled due to the Thanksgiving holiday
URL:https://chamberscreek.org/calendar/all-studies-and-activities-canceled/
LOCATION:TX
END:VEVENT
END:VCALENDAR