BEGIN:VCALENDAR
VERSION:2.0
PRODID:-//Chambers Creek - ECPv6.14.0//NONSGML v1.0//EN
CALSCALE:GREGORIAN
METHOD:PUBLISH
X-ORIGINAL-URL:https://chamberscreek.org
X-WR-CALDESC:Events for Chambers Creek
REFRESH-INTERVAL;VALUE=DURATION:PT1H
X-Robots-Tag:noindex
X-PUBLISHED-TTL:PT1H
BEGIN:VTIMEZONE
TZID:America/Chicago
BEGIN:DAYLIGHT
TZOFFSETFROM:-0600
TZOFFSETTO:-0500
TZNAME:CDT
DTSTART:20240310T080000
END:DAYLIGHT
BEGIN:STANDARD
TZOFFSETFROM:-0500
TZOFFSETTO:-0600
TZNAME:CST
DTSTART:20241103T070000
END:STANDARD
END:VTIMEZONE
BEGIN:VEVENT
DTSTART;TZID=America/Chicago:20241218T180000
DTEND;TZID=America/Chicago:20241218T183000
DTSTAMP:20260423T075340
CREATED:20240821T235244Z
LAST-MODIFIED:20240821T235244Z
UID:726-1734544800-1734546600@chamberscreek.org
SUMMARY:Fellowship Dinner
DESCRIPTION:Dinner for all
URL:https://chamberscreek.org/calendar/fellowship-dinner-18/
LOCATION:TX
CATEGORIES:Fellowship Dinner
END:VEVENT
BEGIN:VEVENT
DTSTART;TZID=America/Chicago:20241218T183000
DTEND;TZID=America/Chicago:20241218T193000
DTSTAMP:20260423T075340
CREATED:20240821T235337Z
LAST-MODIFIED:20240821T235337Z
UID:729-1734546600-1734550200@chamberscreek.org
SUMMARY:Bible Study
DESCRIPTION:Bible study for kids\, youth\, and adults
URL:https://chamberscreek.org/calendar/bible-study-18/
LOCATION:TX
CATEGORIES:Bible Study
END:VEVENT
END:VCALENDAR