BEGIN:VCALENDAR
VERSION:2.0
PRODID:-//Chambers Creek - ECPv6.14.0//NONSGML v1.0//EN
CALSCALE:GREGORIAN
METHOD:PUBLISH
X-WR-CALNAME:Chambers Creek
X-ORIGINAL-URL:https://chamberscreek.org
X-WR-CALDESC:Events for Chambers Creek
REFRESH-INTERVAL;VALUE=DURATION:PT1H
X-Robots-Tag:noindex
X-PUBLISHED-TTL:PT1H
BEGIN:VTIMEZONE
TZID:UTC
BEGIN:STANDARD
TZOFFSETFROM:+0000
TZOFFSETTO:+0000
TZNAME:UTC
DTSTART:20240101T000000
END:STANDARD
END:VTIMEZONE
BEGIN:VEVENT
DTSTART;TZID=UTC:20241224T180000
DTEND;TZID=UTC:20241224T183000
DTSTAMP:20260423T075100
CREATED:20241223T174842Z
LAST-MODIFIED:20241223T175038Z
UID:1426-1735063200-1735065000@chamberscreek.org
SUMMARY:Christmas Eve Candlelight Service
DESCRIPTION:6:00 pm – 6:30 pm at Chambers Creek – Christmas Eve Candlelight Service
URL:https://chamberscreek.org/calendar/christmas-eve-candlelight-service/
LOCATION:TX
END:VEVENT
END:VCALENDAR