BEGIN:VCALENDAR
VERSION:2.0
PRODID:-//Chambers Creek - ECPv6.14.0//NONSGML v1.0//EN
CALSCALE:GREGORIAN
METHOD:PUBLISH
X-WR-CALNAME:Chambers Creek
X-ORIGINAL-URL:https://chamberscreek.org
X-WR-CALDESC:Events for Chambers Creek
REFRESH-INTERVAL;VALUE=DURATION:PT1H
X-Robots-Tag:noindex
X-PUBLISHED-TTL:PT1H
BEGIN:VTIMEZONE
TZID:UTC
BEGIN:STANDARD
TZOFFSETFROM:+0000
TZOFFSETTO:+0000
TZNAME:UTC
DTSTART:20260101T000000
END:STANDARD
END:VTIMEZONE
BEGIN:VEVENT
DTSTART;VALUE=DATE:20260206
DTEND;VALUE=DATE:20260209
DTSTAMP:20260422T115025
CREATED:20260122T235259Z
LAST-MODIFIED:20260122T235259Z
UID:1658-1770336000-1770595199@chamberscreek.org
SUMMARY:DNOW 2026
DESCRIPTION:Join us for our DNOW Weekend on February 6-8\, 2026! This is available for students in grades 6-12 and is $45 per student. Financial assistance is absolutely available if needed! \nCheck-in will be at First Baptist Church Grandview\, 401 E Criner St at 5:00pm! \nIf you would like to sponsor a student\, please contact Brandon Harrell at (214) 264-2698. \nWe can’t wait to see you there! \nUse this link to register! https://gvfbc.breezechms.com/form/16c4f131
URL:https://chamberscreek.org/calendar/dnow-2026/
LOCATION:TX
END:VEVENT
END:VCALENDAR