BEGIN:VCALENDAR
VERSION:2.0
PRODID:-//Chambers Creek - ECPv6.14.0//NONSGML v1.0//EN
CALSCALE:GREGORIAN
METHOD:PUBLISH
X-ORIGINAL-URL:https://chamberscreek.org
X-WR-CALDESC:Events for Chambers Creek
REFRESH-INTERVAL;VALUE=DURATION:PT1H
X-Robots-Tag:noindex
X-PUBLISHED-TTL:PT1H
BEGIN:VTIMEZONE
TZID:America/Chicago
BEGIN:DAYLIGHT
TZOFFSETFROM:-0600
TZOFFSETTO:-0500
TZNAME:CDT
DTSTART:20240310T080000
END:DAYLIGHT
BEGIN:STANDARD
TZOFFSETFROM:-0500
TZOFFSETTO:-0600
TZNAME:CST
DTSTART:20241103T070000
END:STANDARD
END:VTIMEZONE
BEGIN:VEVENT
DTSTART;TZID=America/Chicago:20240918T180000
DTEND;TZID=America/Chicago:20240918T183000
DTSTAMP:20260422T101819
CREATED:20240821T221437Z
LAST-MODIFIED:20240821T221437Z
UID:562-1726682400-1726684200@chamberscreek.org
SUMMARY:Fellowship Dinner
DESCRIPTION:Dinner for all
URL:https://chamberscreek.org/calendar/fellowship-dinner-5/
CATEGORIES:Fellowship Dinner
END:VEVENT
BEGIN:VEVENT
DTSTART;TZID=America/Chicago:20240911T180000
DTEND;TZID=America/Chicago:20240911T183000
DTSTAMP:20260422T101819
CREATED:20240821T213822Z
LAST-MODIFIED:20240821T213822Z
UID:550-1726077600-1726079400@chamberscreek.org
SUMMARY:Fellowship Dinner
DESCRIPTION:Dinner for all
URL:https://chamberscreek.org/calendar/fellowship-dinner-4/
CATEGORIES:Fellowship Dinner
END:VEVENT
BEGIN:VEVENT
DTSTART;TZID=America/Chicago:20240904T180000
DTEND;TZID=America/Chicago:20240904T183000
DTSTAMP:20260422T101819
CREATED:20240821T163730Z
LAST-MODIFIED:20240821T164112Z
UID:506-1725472800-1725474600@chamberscreek.org
SUMMARY:Fellowship Dinner
DESCRIPTION:Dinner for all
URL:https://chamberscreek.org/calendar/fellowship-dinner-3/
CATEGORIES:Fellowship Dinner
END:VEVENT
BEGIN:VEVENT
DTSTART;TZID=America/Chicago:20240828T180000
DTEND;TZID=America/Chicago:20240828T183000
DTSTAMP:20260422T101819
CREATED:20240821T154622Z
LAST-MODIFIED:20240821T154622Z
UID:494-1724868000-1724869800@chamberscreek.org
SUMMARY:Fellowship Dinner
DESCRIPTION:Dinner for all
URL:https://chamberscreek.org/calendar/fellowship-dinner-2/
CATEGORIES:Fellowship Dinner
END:VEVENT
BEGIN:VEVENT
DTSTART;TZID=America/Chicago:20240821T180000
DTEND;TZID=America/Chicago:20240821T183000
DTSTAMP:20260422T101819
CREATED:20240821T151124Z
LAST-MODIFIED:20240821T185131Z
UID:479-1724263200-1724265000@chamberscreek.org
SUMMARY:Fellowship Dinner
DESCRIPTION:Dinner for all
URL:https://chamberscreek.org/calendar/fellowship-dinner/
CATEGORIES:Fellowship Dinner
END:VEVENT
END:VCALENDAR