BEGIN:VCALENDAR
VERSION:2.0
PRODID:-//Chambers Creek - ECPv6.14.0//NONSGML v1.0//EN
CALSCALE:GREGORIAN
METHOD:PUBLISH
X-ORIGINAL-URL:https://chamberscreek.org
X-WR-CALDESC:Events for Chambers Creek
REFRESH-INTERVAL;VALUE=DURATION:PT1H
X-Robots-Tag:noindex
X-PUBLISHED-TTL:PT1H
BEGIN:VTIMEZONE
TZID:UTC
BEGIN:STANDARD
TZOFFSETFROM:+0000
TZOFFSETTO:+0000
TZNAME:UTC
DTSTART:20240101T000000
END:STANDARD
END:VTIMEZONE
BEGIN:VEVENT
DTSTART;TZID=UTC:20241004T100000
DTEND;TZID=UTC:20241004T110000
DTSTAMP:20260423T145336
CREATED:20240821T224019Z
LAST-MODIFIED:20240821T224019Z
UID:593-1728036000-1728039600@chamberscreek.org
SUMMARY:Ladies Bible Study
DESCRIPTION:
URL:https://chamberscreek.org/calendar/ladies-bible-study-7/
CATEGORIES:Ladies Bible Study
END:VEVENT
END:VCALENDAR