BEGIN:VCALENDAR
VERSION:2.0
PRODID:-//Chambers Creek - ECPv6.14.0//NONSGML v1.0//EN
CALSCALE:GREGORIAN
METHOD:PUBLISH
X-WR-CALNAME:Chambers Creek
X-ORIGINAL-URL:https://chamberscreek.org
X-WR-CALDESC:Events for Chambers Creek
REFRESH-INTERVAL;VALUE=DURATION:PT1H
X-Robots-Tag:noindex
X-PUBLISHED-TTL:PT1H
BEGIN:VTIMEZONE
TZID:UTC
BEGIN:STANDARD
TZOFFSETFROM:+0000
TZOFFSETTO:+0000
TZNAME:UTC
DTSTART:20250101T000000
END:STANDARD
END:VTIMEZONE
BEGIN:VEVENT
DTSTART;VALUE=DATE:20250101
DTEND;VALUE=DATE:20250102
DTSTAMP:20260423T042237
CREATED:20241231T183050Z
LAST-MODIFIED:20241231T183050Z
UID:1498-1735689600-1735775999@chamberscreek.org
SUMMARY:New Years' Day
DESCRIPTION:Services canceled
URL:https://chamberscreek.org/calendar/new-years-day/
LOCATION:TX
END:VEVENT
BEGIN:VEVENT
DTSTART;TZID=UTC:20250101T180000
DTEND;TZID=UTC:20250101T193000
DTSTAMP:20260423T042237
CREATED:20241231T183310Z
LAST-MODIFIED:20241231T184236Z
UID:1503-1735754400-1735759800@chamberscreek.org
SUMMARY:Services canceled
DESCRIPTION:
URL:https://chamberscreek.org/calendar/services-canceled-2/
LOCATION:TX
END:VEVENT
END:VCALENDAR