BEGIN:VCALENDAR
VERSION:2.0
PRODID:-//Chambers Creek - ECPv6.14.0//NONSGML v1.0//EN
CALSCALE:GREGORIAN
METHOD:PUBLISH
X-ORIGINAL-URL:https://chamberscreek.org
X-WR-CALDESC:Events for Chambers Creek
REFRESH-INTERVAL;VALUE=DURATION:PT1H
X-Robots-Tag:noindex
X-PUBLISHED-TTL:PT1H
BEGIN:VTIMEZONE
TZID:America/Chicago
BEGIN:DAYLIGHT
TZOFFSETFROM:-0600
TZOFFSETTO:-0500
TZNAME:CDT
DTSTART:20240310T080000
END:DAYLIGHT
BEGIN:STANDARD
TZOFFSETFROM:-0500
TZOFFSETTO:-0600
TZNAME:CST
DTSTART:20241103T070000
END:STANDARD
END:VTIMEZONE
BEGIN:VEVENT
DTSTART;TZID=America/Chicago:20241110T094500
DTEND;TZID=America/Chicago:20241110T103000
DTSTAMP:20260423T113805
CREATED:20240821T232756Z
LAST-MODIFIED:20240821T232756Z
UID:658-1731231900-1731234600@chamberscreek.org
SUMMARY:1'st Hour Ministries
DESCRIPTION:Sunday School classes for children and adults
URL:https://chamberscreek.org/calendar/1st-hour-ministries-12/
CATEGORIES:1'st Hour Ministries
END:VEVENT
BEGIN:VEVENT
DTSTART;TZID=America/Chicago:20241117T094500
DTEND;TZID=America/Chicago:20241117T103000
DTSTAMP:20260423T113805
CREATED:20240821T233208Z
LAST-MODIFIED:20240821T233218Z
UID:671-1731836700-1731839400@chamberscreek.org
SUMMARY:1'st Hour Ministries
DESCRIPTION:Sunday School classes for children and adults
URL:https://chamberscreek.org/calendar/1st-hour-ministries-13/
CATEGORIES:1'st Hour Ministries
END:VEVENT
BEGIN:VEVENT
DTSTART;TZID=America/Chicago:20241124T094500
DTEND;TZID=America/Chicago:20241124T103000
DTSTAMP:20260423T113805
CREATED:20240821T233628Z
LAST-MODIFIED:20240821T233628Z
UID:684-1732441500-1732444200@chamberscreek.org
SUMMARY:1'st Hour Ministries
DESCRIPTION:Sunday School classes for children and adults
URL:https://chamberscreek.org/calendar/1st-hour-ministries-14/
CATEGORIES:1'st Hour Ministries
END:VEVENT
END:VCALENDAR