BEGIN:VCALENDAR
VERSION:2.0
PRODID:-//Chambers Creek - ECPv6.14.0//NONSGML v1.0//EN
CALSCALE:GREGORIAN
METHOD:PUBLISH
X-WR-CALNAME:Chambers Creek
X-ORIGINAL-URL:https://chamberscreek.org
X-WR-CALDESC:Events for Chambers Creek
REFRESH-INTERVAL;VALUE=DURATION:PT1H
X-Robots-Tag:noindex
X-PUBLISHED-TTL:PT1H
BEGIN:VTIMEZONE
TZID:America/Chicago
BEGIN:DAYLIGHT
TZOFFSETFROM:-0600
TZOFFSETTO:-0500
TZNAME:CDT
DTSTART:20240310T080000
END:DAYLIGHT
BEGIN:STANDARD
TZOFFSETFROM:-0500
TZOFFSETTO:-0600
TZNAME:CST
DTSTART:20241103T070000
END:STANDARD
END:VTIMEZONE
BEGIN:VEVENT
DTSTART;TZID=America/Chicago:20241201T094500
DTEND;TZID=America/Chicago:20241201T103000
DTSTAMP:20260423T101043
CREATED:20240821T234051Z
LAST-MODIFIED:20240821T234051Z
UID:697-1733046300-1733049000@chamberscreek.org
SUMMARY:1'st Hour Ministries
DESCRIPTION:Sunday School classes for children and adults
URL:https://chamberscreek.org/calendar/1st-hour-ministries-15/
CATEGORIES:1'st Hour Ministries
END:VEVENT
BEGIN:VEVENT
DTSTART;TZID=America/Chicago:20241208T094500
DTEND;TZID=America/Chicago:20241208T103000
DTSTAMP:20260423T101043
CREATED:20240821T234602Z
LAST-MODIFIED:20240821T234602Z
UID:709-1733651100-1733653800@chamberscreek.org
SUMMARY:1'st Hour Ministries
DESCRIPTION:Sunday School classes for children and adults
URL:https://chamberscreek.org/calendar/1st-hour-ministries-16/
CATEGORIES:1'st Hour Ministries
END:VEVENT
BEGIN:VEVENT
DTSTART;TZID=America/Chicago:20241215T094500
DTEND;TZID=America/Chicago:20241215T103000
DTSTAMP:20260423T101043
CREATED:20240821T235054Z
LAST-MODIFIED:20240821T235054Z
UID:721-1734255900-1734258600@chamberscreek.org
SUMMARY:1'st Hour Ministries
DESCRIPTION:Sunday School classes for children and adults
URL:https://chamberscreek.org/calendar/1st-hour-ministries-17/
CATEGORIES:1'st Hour Ministries
END:VEVENT
BEGIN:VEVENT
DTSTART;TZID=America/Chicago:20241222T094500
DTEND;TZID=America/Chicago:20241222T103000
DTSTAMP:20260423T101043
CREATED:20240821T235509Z
LAST-MODIFIED:20241223T174455Z
UID:734-1734860700-1734863400@chamberscreek.org
SUMMARY:1'st Hour Ministries Canceled
DESCRIPTION:Sunday School classes canceled for children and adults due to Christmas Holiday
URL:https://chamberscreek.org/calendar/1st-hour-ministries-18/
CATEGORIES:1'st Hour Ministries
END:VEVENT
BEGIN:VEVENT
DTSTART;TZID=America/Chicago:20241229T094500
DTEND;TZID=America/Chicago:20241229T103000
DTSTAMP:20260423T101043
CREATED:20240821T235726Z
LAST-MODIFIED:20241223T174152Z
UID:740-1735465500-1735468200@chamberscreek.org
SUMMARY:1'st Hour Ministries Canceled
DESCRIPTION:Sunday School classes canceled for children and adults due to Christmas and New Years’ Holidays
URL:https://chamberscreek.org/calendar/1st-hour-ministries-19/
CATEGORIES:1'st Hour Ministries
END:VEVENT
END:VCALENDAR